BEGIN:VCALENDAR
VERSION:2.0
PRODID:-//147.100.242.14//NONSGML kigkonsult.se iCalcreator 2.41.92//
CALSCALE:GREGORIAN
UID:30393931-6637-4431-b135-303664353436
X-WR-TIMEZONE:Europe/Paris
BEGIN:VTIMEZONE
TZID:Europe/Paris
TZUNTIL:20260329T010000Z
BEGIN:STANDARD
TZNAME:CET
DTSTART:20231029T030000
TZOFFSETFROM:+0200
TZOFFSETTO:+0100
RDATE:20241027T030000
RDATE:20251026T030000
END:STANDARD
BEGIN:DAYLIGHT
TZNAME:CEST
DTSTART:20240331T020000
TZOFFSETFROM:+0100
TZOFFSETTO:+0200
RDATE:20250330T020000
END:DAYLIGHT
END:VTIMEZONE
BEGIN:VEVENT
UID:32616336-3337-4363-b038-646435623661
DTSTAMP:20260423T073046Z
DTSTART:20240513T100000Z
DTEND:20240515T040000Z
LOCATION:IJPB\, INRAE Ile-de-France - Versailles-Saclay
SUMMARY:IJPB Symposium 2024 - Plant modeling: opportunities and challenges
URL:https://ijpb-plant-sciences.symposium.inrae.fr
END:VEVENT
END:VCALENDAR
